BEGIN:VCALENDAR
VERSION:2.0
PRODID:-//Volt Europa//Events//EN
CALSCALE:GREGORIAN
METHOD:PUBLISH
BEGIN:VEVENT
UID:bi-communal-peace-garden-1743836400@voltcyprus.org
DTSTAMP:20260422T182900Z
DTSTART;TZID=Europe/Athens:20250405T100000
DTEND;TZID=Europe/Athens:20250405T110000
SUMMARY:Bi-communal Peace Garden
DESCRIPTION:Η Επιτροπή Επαναπροσέγγισης του Vol
 t σας προσκαλεί στην δικοινοτική δράση\, ό
 που Ελληνοκύπριοι και Τουρκοκύπριοι θα φ
 υτέψουμε δέντρα και θα δημιουργήσουμε έν
 α μεγάλο σύμβολο ειρήνης από βότανα\, σημ
 τοδοτώντας τη δέσμευσή μας για ένα κοινό
 \, βιώσιμο και αρμονικό μέλλον. ---- Exact location
 :  https://maps.app.goo.gl/mXUDSxQe8MXE9mYUA
LOCATION:Agios Dometios\, Nicosia
URL:https://voltcyprus.org/events/bi-communal-peace-garden
END:VEVENT
END:VCALENDAR
