BEGIN:VCALENDAR
VERSION:2.0
PRODID:-//Volt Europa//Events//EN
CALSCALE:GREGORIAN
METHOD:PUBLISH
BEGIN:VEVENT
UID:limasol-toplanti-1742403600@voltcyprus.org
DTSTAMP:20260424T091428Z
DTSTART;TZID=Europe/Athens:20250319T190000
DTEND;TZID=Europe/Athens:20250319T220000
SUMMARY:LİMASOL - TOPLANTI
DESCRIPTION:
LOCATION:Sto Dromo Bar\, Genethliou Mitella\, 3036
URL:https://voltcyprus.org/tr/etkinlikler/limasol-toplanti
END:VEVENT
END:VCALENDAR
